BEGIN:VCALENDAR
VERSION:2.0
PRODID:-//SPE Product Design and Development Division - ECPv6.15.20//NONSGML v1.0//EN
CALSCALE:GREGORIAN
METHOD:PUBLISH
X-WR-CALNAME:SPE Product Design and Development Division
X-ORIGINAL-URL:https://pd3.4spe.org
X-WR-CALDESC:Events for SPE Product Design and Development Division
REFRESH-INTERVAL;VALUE=DURATION:PT1H
X-Robots-Tag:noindex
X-PUBLISHED-TTL:PT1H
BEGIN:VTIMEZONE
TZID:America/New_York
BEGIN:DAYLIGHT
TZOFFSETFROM:-0500
TZOFFSETTO:-0400
TZNAME:EDT
DTSTART:20240310T070000
END:DAYLIGHT
BEGIN:STANDARD
TZOFFSETFROM:-0400
TZOFFSETTO:-0500
TZNAME:EST
DTSTART:20241103T060000
END:STANDARD
BEGIN:DAYLIGHT
TZOFFSETFROM:-0500
TZOFFSETTO:-0400
TZNAME:EDT
DTSTART:20250309T070000
END:DAYLIGHT
BEGIN:STANDARD
TZOFFSETFROM:-0400
TZOFFSETTO:-0500
TZNAME:EST
DTSTART:20251102T060000
END:STANDARD
BEGIN:DAYLIGHT
TZOFFSETFROM:-0500
TZOFFSETTO:-0400
TZNAME:EDT
DTSTART:20260308T070000
END:DAYLIGHT
BEGIN:STANDARD
TZOFFSETFROM:-0400
TZOFFSETTO:-0500
TZNAME:EST
DTSTART:20261101T060000
END:STANDARD
END:VTIMEZONE
BEGIN:VEVENT
DTSTART;VALUE=DATE:20250623
DTEND;VALUE=DATE:20250628
DTSTAMP:20260419T181757
CREATED:20250619T182332Z
LAST-MODIFIED:20250619T182332Z
UID:1208-1750636800-1751068799@pd3.4spe.org
SUMMARY:Stratasys Workshops | Practical Lessons for Engineers Who Need Additive to Deliver
DESCRIPTION:From June 23rd to 27th\, 2025\, the 3Dnatives team\, in collaboration with Stratasys\, invites you to join the free “Practical Lessons for Engineers Who Need Additive to Deliver” workshop series. These five expert-led sessions are designed to support engineers and manufacturers throughout the entire additive workflow: prototyping\, tooling\, and production. Each day from 16:30 CEST / 10:30 EDT (30 minutes per session)\, a different expert will guide you through real-world insights into additive technologies. \nAttend all sessions to receive a Certificate of Attendance\, recognizing your participation in cutting-edge additive manufacturing strategies. Mark your calendar—you won’t want to miss it!
URL:https://pd3.4spe.org/event/stratasys-workshops-practical-lessons-for-engineers-who-need-additive-to-deliver/
END:VEVENT
END:VCALENDAR