BEGIN:VCALENDAR
VERSION:2.0
PRODID:-//SPE Product Design and Development Division - ECPv6.15.20//NONSGML v1.0//EN
CALSCALE:GREGORIAN
METHOD:PUBLISH
X-WR-CALNAME:SPE Product Design and Development Division
X-ORIGINAL-URL:https://pd3.4spe.org
X-WR-CALDESC:Events for SPE Product Design and Development Division
REFRESH-INTERVAL;VALUE=DURATION:PT1H
X-Robots-Tag:noindex
X-PUBLISHED-TTL:PT1H
BEGIN:VTIMEZONE
TZID:America/New_York
BEGIN:DAYLIGHT
TZOFFSETFROM:-0500
TZOFFSETTO:-0400
TZNAME:EDT
DTSTART:20240310T070000
END:DAYLIGHT
BEGIN:STANDARD
TZOFFSETFROM:-0400
TZOFFSETTO:-0500
TZNAME:EST
DTSTART:20241103T060000
END:STANDARD
BEGIN:DAYLIGHT
TZOFFSETFROM:-0500
TZOFFSETTO:-0400
TZNAME:EDT
DTSTART:20250309T070000
END:DAYLIGHT
BEGIN:STANDARD
TZOFFSETFROM:-0400
TZOFFSETTO:-0500
TZNAME:EST
DTSTART:20251102T060000
END:STANDARD
BEGIN:DAYLIGHT
TZOFFSETFROM:-0500
TZOFFSETTO:-0400
TZNAME:EDT
DTSTART:20260308T070000
END:DAYLIGHT
BEGIN:STANDARD
TZOFFSETFROM:-0400
TZOFFSETTO:-0500
TZNAME:EST
DTSTART:20261101T060000
END:STANDARD
END:VTIMEZONE
BEGIN:VEVENT
DTSTART;VALUE=DATE:20250929
DTEND;VALUE=DATE:20251001
DTSTAMP:20260419T162912
CREATED:20250630T172636Z
LAST-MODIFIED:20250630T172636Z
UID:1232-1759104000-1759276799@pd3.4spe.org
SUMMARY:Global Women in STEM Leadership Summit
DESCRIPTION:The Global Women in STEM Leadership Summit is an initiative founded and led by Engineering Professor Takoi K. Hamrita. This is the only one of its kind two-day summit held in the world that is dedicated to giving women in scientific and technological fields from all career paths access to powerful tools\, strategies\, and connections to advance their careers and their lives. Join our movement!
URL:https://pd3.4spe.org/event/global-women-in-stem-leadership-summit/
LOCATION:The Westin Buckhead Atlanta\, 3391 Peachtree Rd NE\, Atlanda\, GA\, 30326\, United States
END:VEVENT
END:VCALENDAR