BEGIN:VCALENDAR
VERSION:2.0
PRODID:-//SPE Product Design and Development Division - ECPv6.15.20//NONSGML v1.0//EN
CALSCALE:GREGORIAN
METHOD:PUBLISH
X-WR-CALNAME:SPE Product Design and Development Division
X-ORIGINAL-URL:https://pd3.4spe.org
X-WR-CALDESC:Events for SPE Product Design and Development Division
REFRESH-INTERVAL;VALUE=DURATION:PT1H
X-Robots-Tag:noindex
X-PUBLISHED-TTL:PT1H
BEGIN:VTIMEZONE
TZID:America/New_York
BEGIN:DAYLIGHT
TZOFFSETFROM:-0500
TZOFFSETTO:-0400
TZNAME:EDT
DTSTART:20240310T070000
END:DAYLIGHT
BEGIN:STANDARD
TZOFFSETFROM:-0400
TZOFFSETTO:-0500
TZNAME:EST
DTSTART:20241103T060000
END:STANDARD
BEGIN:DAYLIGHT
TZOFFSETFROM:-0500
TZOFFSETTO:-0400
TZNAME:EDT
DTSTART:20250309T070000
END:DAYLIGHT
BEGIN:STANDARD
TZOFFSETFROM:-0400
TZOFFSETTO:-0500
TZNAME:EST
DTSTART:20251102T060000
END:STANDARD
BEGIN:DAYLIGHT
TZOFFSETFROM:-0500
TZOFFSETTO:-0400
TZNAME:EDT
DTSTART:20260308T070000
END:DAYLIGHT
BEGIN:STANDARD
TZOFFSETFROM:-0400
TZOFFSETTO:-0500
TZNAME:EST
DTSTART:20261101T060000
END:STANDARD
END:VTIMEZONE
BEGIN:VEVENT
DTSTART;TZID=America/New_York:20251001T140000
DTEND;TZID=America/New_York:20251001T150000
DTSTAMP:20260422T101426
CREATED:20250924T190325Z
LAST-MODIFIED:20250924T190325Z
UID:1316-1759327200-1759330800@pd3.4spe.org
SUMMARY:Harnessing FEA to Enhance Weld Line Strength Prediction for Unfilled Materials
DESCRIPTION:Register now and engage in an online Q&A session with our technical experts.\nCan’t make it to the live webinar? Register anyway\, and we’ll send you the recording\n2:00 PM EDT | Wednesday\, October 1\, 2025 | Check Your Time\nThis webinar explores the advantages of simulating low-pressure molding techniques\, such as iMFLUX and Decoupled 3. By leveraging real-time adjustments through simulation\, the molding process becomes significantly more efficient\, resulting in shorter cycle times and a reduction in defects. \nLow-pressure molding enables manufacturers to produce larger parts using relatively smaller machines\, requiring less clamp tonnage and lower pressure. This approach also supports sustainability initiatives by lowering energy consumption and promoting the use of recycled materials. \nWhat Attendees Will Learn? \n\nBenefits of low-pressure molding and how simulation enhances these processes to maximize their potential.\nUsing virtual sensors to dynamically regulate and maintain consistent low-pressure conditions throughout the cycle.\nCreate a solid starting point for process setup\, reducing time and effort by accurately determining the minimum required injection pressure and identifying optimal process windows.\n\n\n\n\n \n  \n\n\n\n\n 
URL:https://pd3.4spe.org/event/harnessing-fea-to-enhance-weld-line-strength-prediction-for-unfilled-materials/
LOCATION:Online
ORGANIZER;CN="SPE-Inspiring Plastics Professionals":MAILTO:spe@4spe.org
END:VEVENT
END:VCALENDAR