BEGIN:VCALENDAR
VERSION:2.0
PRODID:-//SPE Product Design and Development Division - ECPv6.15.20//NONSGML v1.0//EN
CALSCALE:GREGORIAN
METHOD:PUBLISH
X-ORIGINAL-URL:https://pd3.4spe.org
X-WR-CALDESC:Events for SPE Product Design and Development Division
REFRESH-INTERVAL;VALUE=DURATION:PT1H
X-Robots-Tag:noindex
X-PUBLISHED-TTL:PT1H
BEGIN:VTIMEZONE
TZID:America/New_York
BEGIN:DAYLIGHT
TZOFFSETFROM:-0500
TZOFFSETTO:-0400
TZNAME:EDT
DTSTART:20240310T070000
END:DAYLIGHT
BEGIN:STANDARD
TZOFFSETFROM:-0400
TZOFFSETTO:-0500
TZNAME:EST
DTSTART:20241103T060000
END:STANDARD
BEGIN:DAYLIGHT
TZOFFSETFROM:-0500
TZOFFSETTO:-0400
TZNAME:EDT
DTSTART:20250309T070000
END:DAYLIGHT
BEGIN:STANDARD
TZOFFSETFROM:-0400
TZOFFSETTO:-0500
TZNAME:EST
DTSTART:20251102T060000
END:STANDARD
BEGIN:DAYLIGHT
TZOFFSETFROM:-0500
TZOFFSETTO:-0400
TZNAME:EDT
DTSTART:20260308T070000
END:DAYLIGHT
BEGIN:STANDARD
TZOFFSETFROM:-0400
TZOFFSETTO:-0500
TZNAME:EST
DTSTART:20261101T060000
END:STANDARD
END:VTIMEZONE
BEGIN:VEVENT
DTSTART;VALUE=DATE:20251020
DTEND;VALUE=DATE:20251023
DTSTAMP:20260419T215524
CREATED:20250723T131728Z
LAST-MODIFIED:20250723T131728Z
UID:1248-1760918400-1761177599@pd3.4spe.org
SUMMARY:SPE Vinyltec 2025
DESCRIPTION:Join Us at Vinyltec® 2025 – The Premier Vinyl Plastics Conference\nThe SPE Vinyl Plastics Division is excited to announce that Vinyltec® 2025 will be held in person in New Orleans\, LA\, from October 20–22\, 2025. This annual conference serves as a key platform for professionals across the vinyl industry\, focusing on cutting-edge technologies\, regulatory updates\, sustainability initiatives\, and market trends that shape the future of vinyl plastics. Building on the success of previous editions\, this year’s event will feature expert-led discussions\, technical presentations\, and networking opportunities designed to foster innovation and collaboration in the industry. Whether you’re a manufacturer\, researcher\, or industry leader\, Vinyltec® 2025 is your opportunity to stay ahead in the evolving world of vinyl plastics. Mark your calendar and join us for an informative and engaging experience in the heart of New Orleans!
URL:https://pd3.4spe.org/event/spe-vinyltec-2025/
LOCATION:The Higgins Hotel New Orleans\, Curio Collection by Hilton\, 1000 MAGAZINE ST.\, NEW ORLEANS\, LA\, 70130
ORGANIZER;CN="SPE-Inspiring Plastics Professionals":MAILTO:spe@4spe.org
END:VEVENT
END:VCALENDAR