BEGIN:VCALENDAR
VERSION:2.0
PRODID:-//SPE Product Design and Development Division - ECPv6.15.20//NONSGML v1.0//EN
CALSCALE:GREGORIAN
METHOD:PUBLISH
X-WR-CALNAME:SPE Product Design and Development Division
X-ORIGINAL-URL:https://pd3.4spe.org
X-WR-CALDESC:Events for SPE Product Design and Development Division
REFRESH-INTERVAL;VALUE=DURATION:PT1H
X-Robots-Tag:noindex
X-PUBLISHED-TTL:PT1H
BEGIN:VTIMEZONE
TZID:America/New_York
BEGIN:DAYLIGHT
TZOFFSETFROM:-0500
TZOFFSETTO:-0400
TZNAME:EDT
DTSTART:20250309T070000
END:DAYLIGHT
BEGIN:STANDARD
TZOFFSETFROM:-0400
TZOFFSETTO:-0500
TZNAME:EST
DTSTART:20251102T060000
END:STANDARD
BEGIN:DAYLIGHT
TZOFFSETFROM:-0500
TZOFFSETTO:-0400
TZNAME:EDT
DTSTART:20260308T070000
END:DAYLIGHT
BEGIN:STANDARD
TZOFFSETFROM:-0400
TZOFFSETTO:-0500
TZNAME:EST
DTSTART:20261101T060000
END:STANDARD
BEGIN:DAYLIGHT
TZOFFSETFROM:-0500
TZOFFSETTO:-0400
TZNAME:EDT
DTSTART:20270314T070000
END:DAYLIGHT
BEGIN:STANDARD
TZOFFSETFROM:-0400
TZOFFSETTO:-0500
TZNAME:EST
DTSTART:20271107T060000
END:STANDARD
END:VTIMEZONE
BEGIN:VEVENT
DTSTART;TZID=America/New_York:20260309T080000
DTEND;TZID=America/New_York:20260312T170000
DTSTAMP:20260419T142921
CREATED:20260216T033558Z
LAST-MODIFIED:20260216T033558Z
UID:1341-1773043200-1773334800@pd3.4spe.org
SUMMARY:SPE ANTEC
DESCRIPTION:ANTEC® 2026 is where you will find the latest breakthroughs in plastics technology\, advanced polymer research\, and next-generation processing solutions. This is more than a conference—it’s a launchpad for solving real-world challenges in science\, engineering\, and industry. \nJoin a dynamic community of global thought leaders\, researchers\, and professionals driving progress in plastics. Whether you’re looking to elevate your expertise through learning about the latest advancements and innovations in the plastics industry\, inspire innovation within your organization\, or make powerful connections\, ANTEC® 2026 delivers.
URL:https://pd3.4spe.org/event/spe-antec/
LOCATION:Wyndham Grand Pittsburgh Downtown\, 600 Commonwealth Place\, Pittsburgh\, PA\, 15222-1003\, United States
ORGANIZER;CN="SPE-Inspiring Plastics Professionals":MAILTO:spe@4spe.org
END:VEVENT
END:VCALENDAR