BEGIN:VCALENDAR
VERSION:2.0
PRODID:-//SPE Product Design and Development Division - ECPv6.15.20//NONSGML v1.0//EN
CALSCALE:GREGORIAN
METHOD:PUBLISH
X-ORIGINAL-URL:https://pd3.4spe.org
X-WR-CALDESC:Events for SPE Product Design and Development Division
REFRESH-INTERVAL;VALUE=DURATION:PT1H
X-Robots-Tag:noindex
X-PUBLISHED-TTL:PT1H
BEGIN:VTIMEZONE
TZID:America/New_York
BEGIN:DAYLIGHT
TZOFFSETFROM:-0500
TZOFFSETTO:-0400
TZNAME:EDT
DTSTART:20250309T070000
END:DAYLIGHT
BEGIN:STANDARD
TZOFFSETFROM:-0400
TZOFFSETTO:-0500
TZNAME:EST
DTSTART:20251102T060000
END:STANDARD
BEGIN:DAYLIGHT
TZOFFSETFROM:-0500
TZOFFSETTO:-0400
TZNAME:EDT
DTSTART:20260308T070000
END:DAYLIGHT
BEGIN:STANDARD
TZOFFSETFROM:-0400
TZOFFSETTO:-0500
TZNAME:EST
DTSTART:20261101T060000
END:STANDARD
BEGIN:DAYLIGHT
TZOFFSETFROM:-0500
TZOFFSETTO:-0400
TZNAME:EDT
DTSTART:20270314T070000
END:DAYLIGHT
BEGIN:STANDARD
TZOFFSETFROM:-0400
TZOFFSETTO:-0500
TZNAME:EST
DTSTART:20271107T060000
END:STANDARD
END:VTIMEZONE
BEGIN:VEVENT
DTSTART;TZID=America/New_York:20260318T080000
DTEND;TZID=America/New_York:20260503T170000
DTSTAMP:20260419T090431
CREATED:20260318T151317Z
LAST-MODIFIED:20260318T151956Z
UID:1359-1773820800-1777827600@pd3.4spe.org
SUMMARY:Registration OPEN for 2026 Plastics Seminars
DESCRIPTION:Registration is now OPEN for UMass Lowell’s \nPlastics Engineering Seminars!. \nLearn More and Register \nWhether you are in engineering\, sales and marketing\, or research and development\, join us for a seminar on various topics. \nRegister soon to secure your spot! Click the date to learn more and enroll. \nPROCESSING \nRobust Processing Development and Scientific Molding \nSuhas Kulkarni | Offered June 3-5 \nInjection Molding \nDr. Stephen Johnston | Offered June 8-12 and July 13-17 \nLiquid Silicone Rubber Injection Molding  \nDr. Matthew Bont | Offered July 8-9 \nExtrusion \nDrs. Carol Barry & Anne Soucy | Offered July 20-22 \nPlastics Twin-Screw Extrusion and Compounding NEW! \nDr. Meg Sobkowicz Kline | Offered July 23-24 \nDESIGN \nPlastic Part Design for Injection Molding \nDr. Stephen Johnston | Offered June 1-4 and July 7-10 \nMATERIALS \nPlastics in Medical Devices \nDrs. Meg Sobkowicz Kline & Amy Peterson | Offered June 29-July 1 \nPlastics Materials \nDr. Akshay Kokil | Offered June 15-18 and August 24-27 \nThermoplastic Elastomers NEW! \nDrs. Joey Mead & Jinde Zhang | Offered June 1-2
URL:https://pd3.4spe.org/event/registration-open-for-2026-plastics-seminars/
CATEGORIES:Seminar,Workshop
END:VEVENT
BEGIN:VEVENT
DTSTART;TZID=America/New_York:20260323T080000
DTEND;TZID=America/New_York:20260325T170000
DTSTAMP:20260419T090431
CREATED:20260318T152222Z
LAST-MODIFIED:20260318T152222Z
UID:1364-1774252800-1774458000@pd3.4spe.org
SUMMARY:National Week of Flame Retardants 2026
DESCRIPTION:Are you navigating increasing regulatory pressure around flame retardant (FR) use and chemical safety? Do you struggle to evaluate new FR technologies\, alternatives\, and additive packages with confidence? Are you looking for clearer guidance on testing requirements\, compliance expectations\, and material performance across industries? \nIf you’re responsible for evaluating FR technologies\, selecting additives\, or ensuring compliance across industries\, then you need to be at SPE’s National Week of Flame Retardants 2026\, taking place online March 23-25 from 9:00 am – 12:00 pm ET each day. \nThis three-day program delivers a focused\, technical overview of: \n\nHalogen-free flame retardant innovations and material performance tradeoffs\nThe evolving regulatory landscape impacting FR use and chemical safety\nCurrent testing standards and compliance expectations across key industries\n\nAt SPE’s National Week of Flame Retardants\, you’ll hear directly from flame retardant technical experts\, regulatory specialists\, and major suppliers—and gain practical insights that you can apply to your processes immediately. \nMore Info Here 
URL:https://pd3.4spe.org/event/national-week-of-flame-retardants-2026/
CATEGORIES:Webinar
END:VEVENT
END:VCALENDAR