BEGIN:VCALENDAR
VERSION:2.0
PRODID:-//SPE Product Design and Development Division - ECPv6.15.20//NONSGML v1.0//EN
CALSCALE:GREGORIAN
METHOD:PUBLISH
X-WR-CALNAME:SPE Product Design and Development Division
X-ORIGINAL-URL:https://pd3.4spe.org
X-WR-CALDESC:Events for SPE Product Design and Development Division
REFRESH-INTERVAL;VALUE=DURATION:PT1H
X-Robots-Tag:noindex
X-PUBLISHED-TTL:PT1H
BEGIN:VTIMEZONE
TZID:America/New_York
BEGIN:DAYLIGHT
TZOFFSETFROM:-0500
TZOFFSETTO:-0400
TZNAME:EDT
DTSTART:20230312T070000
END:DAYLIGHT
BEGIN:STANDARD
TZOFFSETFROM:-0400
TZOFFSETTO:-0500
TZNAME:EST
DTSTART:20231105T060000
END:STANDARD
BEGIN:DAYLIGHT
TZOFFSETFROM:-0500
TZOFFSETTO:-0400
TZNAME:EDT
DTSTART:20240310T070000
END:DAYLIGHT
BEGIN:STANDARD
TZOFFSETFROM:-0400
TZOFFSETTO:-0500
TZNAME:EST
DTSTART:20241103T060000
END:STANDARD
BEGIN:DAYLIGHT
TZOFFSETFROM:-0500
TZOFFSETTO:-0400
TZNAME:EDT
DTSTART:20250309T070000
END:DAYLIGHT
BEGIN:STANDARD
TZOFFSETFROM:-0400
TZOFFSETTO:-0500
TZNAME:EST
DTSTART:20251102T060000
END:STANDARD
END:VTIMEZONE
BEGIN:VEVENT
DTSTART;TZID=America/New_York:20240423T080000
DTEND;TZID=America/New_York:20240423T170000
DTSTAMP:20260420T022516
CREATED:20240403T165039Z
LAST-MODIFIED:20240403T165039Z
UID:908-1713859200-1713891600@pd3.4spe.org
SUMMARY:SPE Online Workshop: The Four Milestones to Leverage an Injection Molding Project
DESCRIPTION:Join SPE: Inspiring Plastics Professionals for their online workshop \nHurry\, seats are limited! Register now to secure your spot at: https://www.4spe.org/i4a/pages/index.cfm?pageID=8732 \nLed by the expert instructor\, Andres Urbina\, this workshop will delve deeply into the key milestones of injection molding projects: product design\, tooling\, machine\, and material. You’ll gain a comprehensive understanding of how each element impacts project success and learn practical strategies to enhance your projects. \nThrough interactive discussions and hands-on activities\, you’ll uncover the interplay between these critical aspects and learn how to navigate challenges effectively. Whether you’re new to injection molding or a seasoned professional\, this workshop offers invaluable insights for achieving excellence in your projects. \nDon’t miss this opportunity to elevate your skills and knowledge in injection molding.
URL:https://pd3.4spe.org/event/spe-online-workshop-the-four-milestones-to-leverage-an-injection-molding-project/
CATEGORIES:Workshop
ORGANIZER;CN="SPE-Inspiring Plastics Professionals":MAILTO:spe@4spe.org
END:VEVENT
END:VCALENDAR