BEGIN:VCALENDAR
VERSION:2.0
PRODID:-//SPE Product Design and Development Division - ECPv6.15.20//NONSGML v1.0//EN
CALSCALE:GREGORIAN
METHOD:PUBLISH
X-ORIGINAL-URL:https://pd3.4spe.org
X-WR-CALDESC:Events for SPE Product Design and Development Division
REFRESH-INTERVAL;VALUE=DURATION:PT1H
X-Robots-Tag:noindex
X-PUBLISHED-TTL:PT1H
BEGIN:VTIMEZONE
TZID:America/New_York
BEGIN:DAYLIGHT
TZOFFSETFROM:-0500
TZOFFSETTO:-0400
TZNAME:EDT
DTSTART:20240310T070000
END:DAYLIGHT
BEGIN:STANDARD
TZOFFSETFROM:-0400
TZOFFSETTO:-0500
TZNAME:EST
DTSTART:20241103T060000
END:STANDARD
BEGIN:DAYLIGHT
TZOFFSETFROM:-0500
TZOFFSETTO:-0400
TZNAME:EDT
DTSTART:20250309T070000
END:DAYLIGHT
BEGIN:STANDARD
TZOFFSETFROM:-0400
TZOFFSETTO:-0500
TZNAME:EST
DTSTART:20251102T060000
END:STANDARD
BEGIN:DAYLIGHT
TZOFFSETFROM:-0500
TZOFFSETTO:-0400
TZNAME:EDT
DTSTART:20260308T070000
END:DAYLIGHT
BEGIN:STANDARD
TZOFFSETFROM:-0400
TZOFFSETTO:-0500
TZNAME:EST
DTSTART:20261101T060000
END:STANDARD
END:VTIMEZONE
BEGIN:VTIMEZONE
TZID:America/Chicago
BEGIN:DAYLIGHT
TZOFFSETFROM:-0600
TZOFFSETTO:-0500
TZNAME:CDT
DTSTART:20240310T080000
END:DAYLIGHT
BEGIN:STANDARD
TZOFFSETFROM:-0500
TZOFFSETTO:-0600
TZNAME:CST
DTSTART:20241103T070000
END:STANDARD
BEGIN:DAYLIGHT
TZOFFSETFROM:-0600
TZOFFSETTO:-0500
TZNAME:CDT
DTSTART:20250309T080000
END:DAYLIGHT
BEGIN:STANDARD
TZOFFSETFROM:-0500
TZOFFSETTO:-0600
TZNAME:CST
DTSTART:20251102T070000
END:STANDARD
BEGIN:DAYLIGHT
TZOFFSETFROM:-0600
TZOFFSETTO:-0500
TZNAME:CDT
DTSTART:20260308T080000
END:DAYLIGHT
BEGIN:STANDARD
TZOFFSETFROM:-0500
TZOFFSETTO:-0600
TZNAME:CST
DTSTART:20261101T070000
END:STANDARD
END:VTIMEZONE
BEGIN:VEVENT
DTSTART;TZID=America/New_York:20250903T093000
DTEND;TZID=America/New_York:20250903T100000
DTSTAMP:20260419T220542
CREATED:20250805T175122Z
LAST-MODIFIED:20250805T175155Z
UID:1270-1756891800-1756893600@pd3.4spe.org
SUMMARY:WEBINAR SERIES – Beyond Prototyping: Innovative AM Applications & Materials
DESCRIPTION:From September 3rd to 24th\, 2025\, the 3Dnatives team\, in collaboration with Stratasys\, invites you to join the free “Beyond Prototyping: Innovative AM Applications & Materials” webinar series. Each Wednesday of the month from 16:30 CEST / 10:30 EDT (30 minutes per session)\, a different expert will guide you through real-world insights into additive technologies. \n\n\n\n\nWebinar #1 – Pushing the Limits of Prototyping: Precision\, Performance\, and New Polymer Materials\n\nPrototyping continues to be a core additive manufacturing application—but the tools and materials available today enable much more than concept modeling. This webinar explores how advanced polymers and multi-material printing capabilities are enabling micron-level accuracy\, functional strength\, and aesthetic realism in a single build. We’ll also dive into the next frontier of prototyping innovation\, like direct 3D printing on fabrics. Capabilities such as Smart Insert placement and Print-on-Objects are expanding what’s possible—from embedded components to seamless integration with textiles—redefining how prototypes are built and what they can do. \n\nWebinar #2 – Carbon Fiber Composites: Boosting Tooling with AM\n\nAdditive tooling is transforming how manufacturers approach jigs\, fixtures\, and production aids. In this webinar\, we’ll explore how carbon fiber-reinforced polymers are replacing metal in high-load applications—offering comparable performance at reduced weight and cost. Real-world case studies from automotive\, aerospace\, and heavy industry illustrate how teams are accelerating tooling lead times from weeks to hours. We’ll also discuss new software workflows that enable easy adoption without extensive AM experience\, streamlining the path from design to factory floor. \nWebinar #3 – From Prototypes to Production: AM Materials for Aerospace and Defense Innovation\nAdditive manufacturing is becoming increasingly viable for production\, proving its value for low volumes and customization\, as well as high-performance applications. This session focuses on the aerospace and defense sectors\, where material and process innovations are enabling production-ready parts with high thermal\, mechanical\, and chemical resistance. We’ll explore high-accuracy silicon-based AM for sealing\, FST or ESD compliant tooling and parts\, connector components\, and rapid tooling. Discover how engineers are achieving technical specs and business ROI for real-world deployment. \nWebinar #4 – Maximizing AM Performance with Advanced Software Workflows\nAdditive manufacturing success depends not just on hardware and materials—but on software that enables precision\, repeatability\, and efficiency at scale. In this webinar we’ll explore how Stratasys advanced software platforms like GrabCAD Print™\, GrabCAD Print Pro™\, and OpenAM™ are optimizing AM workflows across industries. Learn how engineers are leveraging features like model-aware slicing\, traceability\, automated support generation\, and open material parameter tuning to streamline operations and unlock new use cases—from prototyping to production. \n\n\n\n\nSpeakers\n\n\n\nGulay Bozoklu\nApplication Development Technical Service Manager\n\n\n\n\n\n\nNaftali Eder\nManager Application Engineering\n\n\n\n\n\n\nAnirudh “Kumar” Krishnakumar\nSenior Product Manager\n\n\n\n\n\n\nNiccolò Giannelli\nFDM Enablement Director
URL:https://pd3.4spe.org/event/webinar-series-beyond-prototyping-innovative-am-applications-materials/
LOCATION:Online
CATEGORIES:Webinar
END:VEVENT
BEGIN:VEVENT
DTSTART;TZID=America/New_York:20250910T093000
DTEND;TZID=America/New_York:20250910T100000
DTSTAMP:20260419T220542
CREATED:20250805T180117Z
LAST-MODIFIED:20250812T181659Z
UID:1276-1757496600-1757498400@pd3.4spe.org
SUMMARY:WEBINAR SERIES – Beyond Prototyping: Innovative AM Applications & Materials
DESCRIPTION:https://www.3dnatives.com/en/webinar-series-beyond-prototyping-innovative-am-applications-materials-11082025/#! \nFrom September 3rd to 24th\, 2025\, the 3Dnatives team\, in collaboration with Stratasys\, invites you to join the free “Beyond Prototyping: Innovative AM Applications & Materials” webinar series. Each Wednesday of the month from 16:30 CEST / 10:30 EDT (30 minutes per session)\, a different expert will guide you through real-world insights into additive technologies. \n\n\n\n\nWebinar #1 – Pushing the Limits of Prototyping: Precision\, Performance\, and New Polymer Materials\n\nPrototyping continues to be a core additive manufacturing application—but the tools and materials available today enable much more than concept modeling. This webinar explores how advanced polymers and multi-material printing capabilities are enabling micron-level accuracy\, functional strength\, and aesthetic realism in a single build. We’ll also dive into the next frontier of prototyping innovation\, like direct 3D printing on fabrics. Capabilities such as Smart Insert placement and Print-on-Objects are expanding what’s possible—from embedded components to seamless integration with textiles—redefining how prototypes are built and what they can do. \n\nWebinar #2 – Carbon Fiber Composites: Boosting Tooling with AM\n\nAdditive tooling is transforming how manufacturers approach jigs\, fixtures\, and production aids. In this webinar\, we’ll explore how carbon fiber-reinforced polymers are replacing metal in high-load applications—offering comparable performance at reduced weight and cost. Real-world case studies from automotive\, aerospace\, and heavy industry illustrate how teams are accelerating tooling lead times from weeks to hours. We’ll also discuss new software workflows that enable easy adoption without extensive AM experience\, streamlining the path from design to factory floor. \nWebinar #3 – From Prototypes to Production: AM Materials for Aerospace and Defense Innovation\nAdditive manufacturing is becoming increasingly viable for production\, proving its value for low volumes and customization\, as well as high-performance applications. This session focuses on the aerospace and defense sectors\, where material and process innovations are enabling production-ready parts with high thermal\, mechanical\, and chemical resistance. We’ll explore high-accuracy silicon-based AM for sealing\, FST or ESD compliant tooling and parts\, connector components\, and rapid tooling. Discover how engineers are achieving technical specs and business ROI for real-world deployment. \nWebinar #4 – Maximizing AM Performance with Advanced Software Workflows\nAdditive manufacturing success depends not just on hardware and materials—but on software that enables precision\, repeatability\, and efficiency at scale. In this webinar we’ll explore how Stratasys advanced software platforms like GrabCAD Print™\, GrabCAD Print Pro™\, and OpenAM™ are optimizing AM workflows across industries. Learn how engineers are leveraging features like model-aware slicing\, traceability\, automated support generation\, and open material parameter tuning to streamline operations and unlock new use cases—from prototyping to production. \n\n\n\n\nSpeakers\n\n\n\nGulay Bozoklu\nApplication Development Technical Service Manager\n\n\n\n\n\n\nNaftali Eder\nManager Application Engineering\n\n\n\n\n\n\nAnirudh “Kumar” Krishnakumar\nSenior Product Manager\n\n\n\n\n\n\nNiccolò Giannelli\nFDM Enablement Director
URL:https://pd3.4spe.org/event/webinar-series-beyond-prototyping-innovative-am-applications-materials-2/
LOCATION:Online
END:VEVENT
BEGIN:VEVENT
DTSTART;VALUE=DATE:20250911
DTEND;VALUE=DATE:20250916
DTSTAMP:20260419T220542
CREATED:20250728T164624Z
LAST-MODIFIED:20250728T164646Z
UID:1262-1757548800-1757980799@pd3.4spe.org
SUMMARY:Extruded Profile Part Design
DESCRIPTION:Master the complexities of extruded profile design\, thermoplastic behavior\, and extrusion line requirements in this intensive workshop series. Designed for engineers\, designers\, and extrusion professionals\, these sessions provide practical solutions to common processing challenges\, helping you improve efficiency\, product quality\, and troubleshooting skills. \nProfile Extrusion: From “Black Art” to Proven Science\nOften considered a “black art\,” profile extrusion is\, in reality\, a well-defined science—one that has long been closely held and rarely shared. This workshop opens the door to critical design\, material\, and processing principles that can elevate your expertise and optimize production outcomes. \n  Don’t miss this rare opportunity to learn from an industry expert and unlock the full potential of profile extrusion. Take your expertise to the next level!
URL:https://pd3.4spe.org/event/extruded-profile-part-design/
LOCATION:Online
END:VEVENT
BEGIN:VEVENT
DTSTART;TZID=America/Chicago:20250911T120000
DTEND;TZID=America/Chicago:20250911T130000
DTSTAMP:20260419T220542
CREATED:20250701T170712Z
LAST-MODIFIED:20250701T170712Z
UID:1236-1757592000-1757595600@pd3.4spe.org
SUMMARY:"Designing with Color: Strategies for Consistent and Impactful Color in Plastics" Webinar
DESCRIPTION:Color is more than just aesthetics — it’s a critical factor in product success\, brand recognition\, and user experience. Yet\, specifying and achieving the right color in plastics can be challenging\, especially when working with multiple converters and materials. In this dynamic\, hour-long webinar\, you’ll learn how to navigate the complexities of color in product design.
URL:https://pd3.4spe.org/event/designing-with-color-strategies-for-consistent-and-impactful-color-in-plastics-webinar/
LOCATION:Zoom
END:VEVENT
BEGIN:VEVENT
DTSTART;TZID=America/New_York:20250913T120000
DTEND;TZID=America/New_York:20250913T160000
DTSTAMP:20260419T220542
CREATED:20250805T175839Z
LAST-MODIFIED:20250805T175839Z
UID:1273-1757764800-1757779200@pd3.4spe.org
SUMMARY:Glenn Beall Celebration of Life
DESCRIPTION:There will be a Celebration of Life for Glenn Beall on Saturday\, September 13th\, at Noon.  It will be held at Lake Forest Place. \nLake Forest Place\n1100 Pembridge Drive\nLake Forest\, IL  60045
URL:https://pd3.4spe.org/event/glenn-beall-celebration-of-life/
LOCATION:Lake Forest Place\, 1100 Pembridge Drive\, Lake Forest\, IL\, 60045\, United States
END:VEVENT
BEGIN:VEVENT
DTSTART;TZID=America/New_York:20250917T093000
DTEND;TZID=America/New_York:20250917T100000
DTSTAMP:20260419T220542
CREATED:20250805T180208Z
LAST-MODIFIED:20250805T180208Z
UID:1279-1758101400-1758103200@pd3.4spe.org
SUMMARY:WEBINAR SERIES – Beyond Prototyping: Innovative AM Applications & Materials
DESCRIPTION:From September 3rd to 24th\, 2025\, the 3Dnatives team\, in collaboration with Stratasys\, invites you to join the free “Beyond Prototyping: Innovative AM Applications & Materials” webinar series. Each Wednesday of the month from 16:30 CEST / 10:30 EDT (30 minutes per session)\, a different expert will guide you through real-world insights into additive technologies. \n\n\n\n\nWebinar #1 – Pushing the Limits of Prototyping: Precision\, Performance\, and New Polymer Materials\n\nPrototyping continues to be a core additive manufacturing application—but the tools and materials available today enable much more than concept modeling. This webinar explores how advanced polymers and multi-material printing capabilities are enabling micron-level accuracy\, functional strength\, and aesthetic realism in a single build. We’ll also dive into the next frontier of prototyping innovation\, like direct 3D printing on fabrics. Capabilities such as Smart Insert placement and Print-on-Objects are expanding what’s possible—from embedded components to seamless integration with textiles—redefining how prototypes are built and what they can do. \n\nWebinar #2 – Carbon Fiber Composites: Boosting Tooling with AM\n\nAdditive tooling is transforming how manufacturers approach jigs\, fixtures\, and production aids. In this webinar\, we’ll explore how carbon fiber-reinforced polymers are replacing metal in high-load applications—offering comparable performance at reduced weight and cost. Real-world case studies from automotive\, aerospace\, and heavy industry illustrate how teams are accelerating tooling lead times from weeks to hours. We’ll also discuss new software workflows that enable easy adoption without extensive AM experience\, streamlining the path from design to factory floor. \nWebinar #3 – From Prototypes to Production: AM Materials for Aerospace and Defense Innovation\nAdditive manufacturing is becoming increasingly viable for production\, proving its value for low volumes and customization\, as well as high-performance applications. This session focuses on the aerospace and defense sectors\, where material and process innovations are enabling production-ready parts with high thermal\, mechanical\, and chemical resistance. We’ll explore high-accuracy silicon-based AM for sealing\, FST or ESD compliant tooling and parts\, connector components\, and rapid tooling. Discover how engineers are achieving technical specs and business ROI for real-world deployment. \nWebinar #4 – Maximizing AM Performance with Advanced Software Workflows\nAdditive manufacturing success depends not just on hardware and materials—but on software that enables precision\, repeatability\, and efficiency at scale. In this webinar we’ll explore how Stratasys advanced software platforms like GrabCAD Print™\, GrabCAD Print Pro™\, and OpenAM™ are optimizing AM workflows across industries. Learn how engineers are leveraging features like model-aware slicing\, traceability\, automated support generation\, and open material parameter tuning to streamline operations and unlock new use cases—from prototyping to production. \n\n\n\n\nSpeakers\n\n\n\nGulay Bozoklu\nApplication Development Technical Service Manager\n\n\n\n\n\n\nNaftali Eder\nManager Application Engineering\n\n\n\n\n\n\nAnirudh “Kumar” Krishnakumar\nSenior Product Manager\n\n\n\n\n\n\nNiccolò Giannelli\nFDM Enablement Director
URL:https://pd3.4spe.org/event/webinar-series-beyond-prototyping-innovative-am-applications-materials-3/
LOCATION:Online
END:VEVENT
BEGIN:VEVENT
DTSTART;VALUE=DATE:20250923
DTEND;VALUE=DATE:20250925
DTSTAMP:20260419T220542
CREATED:20250623T132045Z
LAST-MODIFIED:20250623T132045Z
UID:1225-1758585600-1758758399@pd3.4spe.org
SUMMARY:Responsible Plastics 2025
DESCRIPTION:Responsible Plastics 2025 is designed for professionals committed to developing impactful solutions to environmental challenges while promoting innovation\, sustainability\, and responsible practices across the plastics value chain. \nThis conference includes two tracks that focus on tackling the pressing challenges of PFAS and Microplastics in the plastics industry.
URL:https://pd3.4spe.org/event/responsible-plastics-2025/
LOCATION:DoubleTree by Hilton Hotel & Suites Pittsburgh Downtown\, One Bigelow Sq\, Pittsburgh\, Pennsylvania\, 15219
ORGANIZER;CN="SPE-Inspiring Plastics Professionals":MAILTO:spe@4spe.org
END:VEVENT
BEGIN:VEVENT
DTSTART;TZID=America/New_York:20250924T093000
DTEND;TZID=America/New_York:20250924T100000
DTSTAMP:20260419T220542
CREATED:20250805T180350Z
LAST-MODIFIED:20250812T040309Z
UID:1281-1758706200-1758708000@pd3.4spe.org
SUMMARY:WEBINAR SERIES – Beyond Prototyping: Innovative AM Applications & Materials
DESCRIPTION:From September 3rd to 24th\, 2025\, the 3Dnatives team\, in collaboration with Stratasys\, invites you to join the free “Beyond Prototyping: Innovative AM Applications & Materials” webinar series. Each Wednesday of the month from 16:30 CEST / 10:30 EDT (30 minutes per session)\, a different expert will guide you through real-world insights into additive technologies. Register for any or all of these webinars here: Webinars | Beyond Prototyping: Innovative AM Applications & Materials – 3Dnatives \n\n\n\n\nWebinar #1 – Pushing the Limits of Prototyping: Precision\, Performance\, and New Polymer Materials\n\nPrototyping continues to be a core additive manufacturing application—but the tools and materials available today enable much more than concept modeling. This webinar explores how advanced polymers and multi-material printing capabilities are enabling micron-level accuracy\, functional strength\, and aesthetic realism in a single build. We’ll also dive into the next frontier of prototyping innovation\, like direct 3D printing on fabrics. Capabilities such as Smart Insert placement and Print-on-Objects are expanding what’s possible—from embedded components to seamless integration with textiles—redefining how prototypes are built and what they can do. \n\nWebinar #2 – Carbon Fiber Composites: Boosting Tooling with AM\n\nAdditive tooling is transforming how manufacturers approach jigs\, fixtures\, and production aids. In this webinar\, we’ll explore how carbon fiber-reinforced polymers are replacing metal in high-load applications—offering comparable performance at reduced weight and cost. Real-world case studies from automotive\, aerospace\, and heavy industry illustrate how teams are accelerating tooling lead times from weeks to hours. We’ll also discuss new software workflows that enable easy adoption without extensive AM experience\, streamlining the path from design to factory floor. \nWebinar #3 – From Prototypes to Production: AM Materials for Aerospace and Defense Innovation\nAdditive manufacturing is becoming increasingly viable for production\, proving its value for low volumes and customization\, as well as high-performance applications. This session focuses on the aerospace and defense sectors\, where material and process innovations are enabling production-ready parts with high thermal\, mechanical\, and chemical resistance. We’ll explore high-accuracy silicon-based AM for sealing\, FST or ESD compliant tooling and parts\, connector components\, and rapid tooling. Discover how engineers are achieving technical specs and business ROI for real-world deployment. \nWebinar #4 – Maximizing AM Performance with Advanced Software Workflows\nAdditive manufacturing success depends not just on hardware and materials—but on software that enables precision\, repeatability\, and efficiency at scale. In this webinar we’ll explore how Stratasys advanced software platforms like GrabCAD Print™\, GrabCAD Print Pro™\, and OpenAM™ are optimizing AM workflows across industries. Learn how engineers are leveraging features like model-aware slicing\, traceability\, automated support generation\, and open material parameter tuning to streamline operations and unlock new use cases—from prototyping to production. \n\n\n\n\nSpeakers\n\n\n\nGulay Bozoklu\nApplication Development Technical Service Manager\n\n\n\n\n\n\nNaftali Eder\nManager Application Engineering\n\n\n\n\n\n\nAnirudh “Kumar” Krishnakumar\nSenior Product Manager\n\n\n\n\n\n\nNiccolò Giannelli\nFDM Enablement Director
URL:https://pd3.4spe.org/event/webinar-series-beyond-prototyping-innovative-am-applications-materials-4/
LOCATION:Online
END:VEVENT
BEGIN:VEVENT
DTSTART;TZID=America/New_York:20250925T100000
DTEND;TZID=America/New_York:20250925T113000
DTSTAMP:20260419T220542
CREATED:20250922T140245Z
LAST-MODIFIED:20250922T140245Z
UID:1311-1758794400-1758799800@pd3.4spe.org
SUMMARY:What's Next: A Recap on UNEP 5.2 and a Look Ahead
DESCRIPTION:What’s Next: A Recap on UNEP 5.2 and a Look Ahead \nThe recent talks to negotiate an internationally binding treaty on plastic pollution ended without a global consensus. Now what? Join SPE’s online roundtable discussion on Sept. 25 from 10-11:15 a.m. Eastern Time for an exclusive debrief from participants who were inside the room at the United Nations Environment Programme’s Fifth Intergovernmental Negotiating Committee (INC-5.2) in Geneva\, Switzerland. \nHear firsthand what actually happened at INC-5.2. Panelists include: Fiorella Danjoy Acosta\, Regional Director\, Recicla Latam; Tania Ferlin\, Director of Sustainability Advocacy\, Husky Technologies™; Hodayah Finman\, Senior Director\, Regulatory Affairs\, Plastics Industry; and Julie Peters\, EU Policy Affairs Manager\, European Bioplastics e.V. Discussion will be moderated by Conor Carlin\, SPE’s representative to UNEP. This panel discussion is free to attend but requires registration. \nhttps://www.4spe.org/i4a/pages/index.cfm?pageid=9694#gsc.tab=0
URL:https://pd3.4spe.org/event/whats-next-a-recap-on-unep-5-2-and-a-look-ahead/
LOCATION:Online
END:VEVENT
BEGIN:VEVENT
DTSTART;VALUE=DATE:20250929
DTEND;VALUE=DATE:20251001
DTSTAMP:20260419T220542
CREATED:20250630T172636Z
LAST-MODIFIED:20250630T172636Z
UID:1232-1759104000-1759276799@pd3.4spe.org
SUMMARY:Global Women in STEM Leadership Summit
DESCRIPTION:The Global Women in STEM Leadership Summit is an initiative founded and led by Engineering Professor Takoi K. Hamrita. This is the only one of its kind two-day summit held in the world that is dedicated to giving women in scientific and technological fields from all career paths access to powerful tools\, strategies\, and connections to advance their careers and their lives. Join our movement!
URL:https://pd3.4spe.org/event/global-women-in-stem-leadership-summit/
LOCATION:The Westin Buckhead Atlanta\, 3391 Peachtree Rd NE\, Atlanda\, GA\, 30326\, United States
END:VEVENT
END:VCALENDAR